0.050000
0.000000
0.000000
-0.050000
-728749.975000
-1049000.025000
