0.050000
0.000000
0.000000
-0.050000
-735624.975000
-1034500.025000
