0.050000
0.000000
0.000000
-0.050000
-723749.975000
-1047500.025000
