0.050000
0.000000
0.000000
-0.050000
-752499.975000
-1047500.025000
