0.050000
0.000000
0.000000
-0.050000
-732499.975000
-1042500.025000
