0.050000
0.000000
0.000000
-0.050000
-727499.975000
-1044500.025000
