0.050000
0.000000
0.000000
-0.050000
-746249.975000
-1035500.025000
