0.050000
0.000000
0.000000
-0.050000
-743124.975000
-1037500.025000
