0.050000
0.000000
0.000000
-0.050000
-751249.975000
-1042000.025000
