0.100000
0.000000
0.000000
-0.100000
-744374.950000
-1037500.050000
