0.100000
0.000000
0.000000
-0.100000
-741874.950000
-1038000.050000
