0.100000
0.000000
0.000000
-0.100000
-736874.950000
-1034000.050000
