0.100000
0.000000
0.000000
-0.100000
-757499.950000
-1044500.050000
