0.100000
0.000000
0.000000
-0.100000
-754374.950000
-1043500.050000
