0.100000
0.000000
0.000000
-0.100000
-751874.950000
-1040500.050000
