0.100000
0.000000
0.000000
-0.100000
-732499.950000
-1041000.050000
