0.100000
0.000000
0.000000
-0.100000
-728749.950000
-1054000.050000
