0.100000
0.000000
0.000000
-0.100000
-728124.950000
-1049000.050000
