0.100000
0.000000
0.000000
-0.100000
-727499.950000
-1044000.050000
