0.100000
0.000000
0.000000
-0.100000
-746874.950000
-1039500.050000
