0.100000
0.000000
0.000000
-0.100000
-739374.950000
-1035000.050000
