0.100000
0.000000
0.000000
-0.100000
-752499.950000
-1038000.050000
