0.100000
0.000000
0.000000
-0.100000
-724374.950000
-1047000.050000
