1.05839519065504
0.000000000000000
0.000000000000000
-1.05836105231319
-757500.0001401
-1032000.00014
