0.050000
0.000000
0.000000
-0.050000
-729374.975000
-1042500.025000
