0.050000
0.000000
0.000000
-0.050000
-726249.975000
-1043000.025000
