0.050000
0.000000
0.000000
-0.050000
-749374.975000
-1036500.025000
