0.050000
0.000000
0.000000
-0.050000
-734999.975000
-1034500.025000
