0.050000
0.000000
0.000000
-0.050000
-728124.975000
-1036000.025000
