0.050000
0.000000
0.000000
-0.050000
-757499.975000
-1045000.025000
