0.050000
0.000000
0.000000
-0.050000
-747499.975000
-1041000.025000
