0.050000
0.000000
0.000000
-0.050000
-744999.975000
-1056000.025000
