0.050000
0.000000
0.000000
-0.050000
-743749.975000
-1053500.025000
