0.050000
0.000000
0.000000
-0.050000
-744374.975000
-1052000.025000
