0.050000
0.000000
0.000000
-0.050000
-741874.975000
-1057000.025000
