0.050000
0.000000
0.000000
-0.050000
-742499.975000
-1053500.025000
