0.050000
0.000000
0.000000
-0.050000
-736874.975000
-1050000.025000
