0.050000
0.000000
0.000000
-0.050000
-734999.975000
-1052000.025000
