0.050000
0.000000
0.000000
-0.050000
-730624.975000
-1046500.025000
