0.050000
0.000000
0.000000
-0.050000
-725624.975000
-1047000.025000
