0.050000
0.000000
0.000000
-0.050000
-726874.975000
-1040000.025000
