0.050000
0.000000
0.000000
-0.050000
-746874.975000
-1039000.025000
