0.050000
0.000000
0.000000
-0.050000
-740624.975000
-1036500.025000
