0.050000
0.000000
0.000000
-0.050000
-739999.975000
-1035000.025000
