0.050000
0.000000
0.000000
-0.050000
-731874.975000
-1037000.025000
