0.050000
0.000000
0.000000
-0.050000
-729999.975000
-1038000.025000
