0.050000
0.000000
0.000000
-0.050000
-724374.975000
-1043000.025000
