0.050000
0.000000
0.000000
-0.050000
-723124.975000
-1042000.025000
