0.050000
0.000000
0.000000
-0.050000
-754374.975000
-1048500.025000
