0.050000
0.000000
0.000000
-0.050000
-754999.975000
-1043500.025000
